BEGIN:VCALENDAR
VERSION:2.0
PRODID:-//Faculty of Medicine - ECPv6.15.14//NONSGML v1.0//EN
CALSCALE:GREGORIAN
METHOD:PUBLISH
X-WR-CALNAME:Faculty of Medicine
X-ORIGINAL-URL:https://med.jfn.ac.lk
X-WR-CALDESC:Events for Faculty of Medicine
REFRESH-INTERVAL;VALUE=DURATION:PT1H
X-Robots-Tag:noindex
X-PUBLISHED-TTL:PT1H
BEGIN:VTIMEZONE
TZID:Asia/Kolkata
BEGIN:STANDARD
TZOFFSETFROM:+0530
TZOFFSETTO:+0530
TZNAME:IST
DTSTART:20230101T000000
END:STANDARD
END:VTIMEZONE
BEGIN:VEVENT
DTSTART;TZID=Asia/Kolkata:20241022T150000
DTEND;TZID=Asia/Kolkata:20241022T170000
DTSTAMP:20260420T195017
CREATED:20241022T082440Z
LAST-MODIFIED:20241022T082448Z
UID:18183-1729609200-1729616400@med.jfn.ac.lk
SUMMARY:Dr. Arunasalam Sivapathasundaram Memorial Lecture - 2024
DESCRIPTION:
URL:https://med.jfn.ac.lk/event/dr-arunasalam-sivapathasundaram-memorial-lecture-2024/
CATEGORIES:Faculty,Paediatrics
END:VEVENT
END:VCALENDAR