BEGIN:VCALENDAR
VERSION:2.0
PRODID:-//Faculty of Medicine - ECPv6.15.14//NONSGML v1.0//EN
CALSCALE:GREGORIAN
METHOD:PUBLISH
X-ORIGINAL-URL:https://med.jfn.ac.lk
X-WR-CALDESC:Events for Faculty of Medicine
REFRESH-INTERVAL;VALUE=DURATION:PT1H
X-Robots-Tag:noindex
X-PUBLISHED-TTL:PT1H
BEGIN:VTIMEZONE
TZID:Asia/Kolkata
BEGIN:STANDARD
TZOFFSETFROM:+0530
TZOFFSETTO:+0530
TZNAME:IST
DTSTART:20240101T000000
END:STANDARD
END:VTIMEZONE
BEGIN:VEVENT
DTSTART;TZID=Asia/Kolkata:20250304T080000
DTEND;TZID=Asia/Kolkata:20250304T170000
DTSTAMP:20260420T105703
CREATED:20250203T062251Z
LAST-MODIFIED:20250203T062821Z
UID:18885-1741075200-1741107600@med.jfn.ac.lk
SUMMARY:Core Skills in Laparoscopic Surgery (CLS) courses  by Royal College of Surgeons centre
DESCRIPTION:The Core Skills in Laparoscopic Surgery (CLS) program conducted by the University of Jaffna has been approved by the Postgraduate Institute of Medicine (PGIM) as one of the Core Skills in Laparoscopic Surgery training programmes for 1st-year surgical registrars. \n\n\n\nThis intensive two-day course focuses on the core laparoscopic surgery skills and theoretical knowledge essential for every surgical discipline. In a safe\, simulated environment\, participants will use a range of quality laparoscopic equipment\, work with specifically designed benchtop models\, and learn various knotting and suturing techniques and animal tissue specimens for procedures like appendectomy and cholecystectomy. Highly experienced faculty are on hand to deliver individual feedback and mentoring for improvement. \n\n\n\nLed by experienced faculty\, with one trainer for two participants\, individuals will have the opportunity to learn to use a range of surgical instruments and to handle tissue with increased confidence.
URL:https://med.jfn.ac.lk/event/core-skills-in-laparoscopic-surgery-cls-courses-by-royal-college-of-surgeons-centre/
LOCATION:Department of Surgery\, Clinical Training & Research Block\, Teaching Hospital\, Jaffna
CATEGORIES:Faculty,Surgery
ATTACH;FMTTYPE=image/jpeg:https://med.jfn.ac.lk/wp-content/uploads/2025/02/a.jpg
END:VEVENT
END:VCALENDAR