BEGIN:VCALENDAR
VERSION:2.0
PRODID:-//Faculty of Medicine - ECPv6.15.14//NONSGML v1.0//EN
CALSCALE:GREGORIAN
METHOD:PUBLISH
X-WR-CALNAME:Faculty of Medicine
X-ORIGINAL-URL:https://med.jfn.ac.lk
X-WR-CALDESC:Events for Faculty of Medicine
REFRESH-INTERVAL;VALUE=DURATION:PT1H
X-Robots-Tag:noindex
X-PUBLISHED-TTL:PT1H
BEGIN:VTIMEZONE
TZID:Asia/Kolkata
BEGIN:STANDARD
TZOFFSETFROM:+0530
TZOFFSETTO:+0530
TZNAME:IST
DTSTART:20240101T000000
END:STANDARD
END:VTIMEZONE
BEGIN:VEVENT
DTSTART;TZID=Asia/Kolkata:20250527T150000
DTEND;TZID=Asia/Kolkata:20250527T160000
DTSTAMP:20260420T124147
CREATED:20250520T062919Z
LAST-MODIFIED:20260309T092232Z
UID:19804-1748358000-1748361600@med.jfn.ac.lk
SUMMARY:Prof. C. Sivagnanasundram Memorial Lecture 2025
DESCRIPTION:
URL:https://med.jfn.ac.lk/event/prof-c-sivagnanasundram-memorial-lecture-2025/
LOCATION:Hoover Auditorium\, Faculty of Medicine\, University of Jaffna\, Adiyapatham Road\, Kokuvil\, Sri Lanka
ATTACH;FMTTYPE=image/png:https://med.jfn.ac.lk/wp-content/uploads/2025/05/memo.png
END:VEVENT
BEGIN:VEVENT
DTSTART;TZID=Asia/Kolkata:20250618T150000
DTEND;TZID=Asia/Kolkata:20250618T150000
DTSTAMP:20260420T124147
CREATED:20250611T075157Z
LAST-MODIFIED:20250611T075158Z
UID:19981-1750258800-1750258800@med.jfn.ac.lk
SUMMARY:Annual Get Together - 2025
DESCRIPTION:The “Annual Get Together – 2025” is scheduled to be held on Wednesday\, 18th of June 2025 from 3.00pm onwards at the Faculty Premises.
URL:https://med.jfn.ac.lk/event/annual-get-together-2025/
CATEGORIES:Faculty
END:VEVENT
BEGIN:VEVENT
DTSTART;TZID=Asia/Kolkata:20260407T083000
DTEND;TZID=Asia/Kolkata:20260407T123000
DTSTAMP:20260420T124147
CREATED:20260402T113656Z
LAST-MODIFIED:20260402T120028Z
UID:26864-1775550600-1775565000@med.jfn.ac.lk
SUMMARY:WORKSHOP ON HYSTEROSCOPY
DESCRIPTION:Registration Information\n\n\n\n\nLimited Seats: Maximum 15 participants only\n\n\n\nRegistration Link:👉 https://forms.gle/wTTrk6T5F4XgppvF9
URL:https://med.jfn.ac.lk/event/workshop-on-hysteroscopy/
CATEGORIES:Faculty,ObsGyn
ATTACH;FMTTYPE=image/jpeg:https://med.jfn.ac.lk/wp-content/uploads/2026/04/WhatsApp-Image-2026-04-02-at-16.00.00.jpeg
END:VEVENT
END:VCALENDAR