BEGIN:VCALENDAR
VERSION:2.0
PRODID:-//Faculty of Medicine - ECPv6.15.14//NONSGML v1.0//EN
CALSCALE:GREGORIAN
METHOD:PUBLISH
X-WR-CALNAME:Faculty of Medicine
X-ORIGINAL-URL:https://med.jfn.ac.lk
X-WR-CALDESC:Events for Faculty of Medicine
REFRESH-INTERVAL;VALUE=DURATION:PT1H
X-Robots-Tag:noindex
X-PUBLISHED-TTL:PT1H
BEGIN:VTIMEZONE
TZID:Asia/Kolkata
BEGIN:STANDARD
TZOFFSETFROM:+0530
TZOFFSETTO:+0530
TZNAME:IST
DTSTART:20210101T000000
END:STANDARD
END:VTIMEZONE
BEGIN:VEVENT
DTSTART;TZID=Asia/Kolkata:20240720T163000
DTEND;TZID=Asia/Kolkata:20240720T163000
DTSTAMP:20260420T124555
CREATED:20240718T093638Z
LAST-MODIFIED:20240718T094658Z
UID:16666-1721493000-1721493000@med.jfn.ac.lk
SUMMARY:Friendly football encounter
DESCRIPTION:We are glad to announce that our medical faculty football team going to play friendly matches with football clubs in coming weeks for challenge our skills and talents with club players. \n\n\n\ncoming Saturday(20.07.2024) our medical students going to play friendly match with SINGAI Sports club at 4.30pm in our university playground.
URL:https://med.jfn.ac.lk/event/friendly-football-encounter-2/
CATEGORIES:MSU
ATTACH;FMTTYPE=image/jpeg:https://med.jfn.ac.lk/wp-content/uploads/2024/07/Football-2.jpg
END:VEVENT
BEGIN:VEVENT
DTSTART;TZID=Asia/Kolkata:20240519T160000
DTEND;TZID=Asia/Kolkata:20240519T160000
DTSTAMP:20260420T124555
CREATED:20240516T064801Z
LAST-MODIFIED:20240516T064802Z
UID:16586-1716134400-1716134400@med.jfn.ac.lk
SUMMARY:Friendly Football Encounter
DESCRIPTION:
URL:https://med.jfn.ac.lk/event/friendly-football-encounter/
CATEGORIES:Faculty,MSU
ATTACH;FMTTYPE=image/jpeg:https://med.jfn.ac.lk/wp-content/uploads/2024/05/Football.jpg
END:VEVENT
BEGIN:VEVENT
DTSTART;TZID=Asia/Kolkata:20240502T140000
DTEND;TZID=Asia/Kolkata:20240502T163000
DTSTAMP:20260420T124555
CREATED:20240429T111229Z
LAST-MODIFIED:20240429T111231Z
UID:16539-1714658400-1714667400@med.jfn.ac.lk
SUMMARY:Workshop on Solid Waste Management in Jaffna Municipal Council Area
DESCRIPTION:Workshop on Solid Waste Management in Jaffna Municipal Council Area on 2nd of May\, 2024 from 2.00 pm to 4.30 pm at Conference Hall\, Faculty of Medicine\, University of Jaffna conducted Jaffna Healthy City Academic Forum.
URL:https://med.jfn.ac.lk/event/workshop-on-solid-waste-management-in-jaffna-municipal-council-area/
CATEGORIES:Healthy City
ATTACH;FMTTYPE=image/jpeg:https://med.jfn.ac.lk/wp-content/uploads/2024/04/IMG-20240429-WA0003.jpg
END:VEVENT
BEGIN:VEVENT
DTSTART;TZID=Asia/Kolkata:20240502T080000
DTEND;TZID=Asia/Kolkata:20240505T163000
DTSTAMP:20260420T124555
CREATED:20240429T054145Z
LAST-MODIFIED:20240429T054147Z
UID:16476-1714636800-1714926600@med.jfn.ac.lk
SUMMARY:Training of Trainer to become a First Aid Instructor
DESCRIPTION:Training of Trainer to become a First Aid Instructor is scheduled to be held on 2nd to 5th of May 2024\, at the Seminar Hall\, Department of Community and Family Medicine\, Faculty of Medicine\, University of Jaffna from 8.00 am to 4.30 pm.
URL:https://med.jfn.ac.lk/event/training-of-trainer-to-become-a-first-aid-instructor/
CATEGORIES:DCFM,Faculty
ATTACH;FMTTYPE=image/jpeg:https://med.jfn.ac.lk/wp-content/uploads/2024/04/Flyer_First-Aid-Training.jpg
END:VEVENT
BEGIN:VEVENT
DTSTART;TZID=Asia/Kolkata:20240427T090000
DTEND;TZID=Asia/Kolkata:20240427T123000
DTSTAMP:20260420T124555
CREATED:20240419T111301Z
LAST-MODIFIED:20240419T111303Z
UID:16234-1714208400-1714221000@med.jfn.ac.lk
SUMMARY:Workshop on Current Trends in ANC Care and Family Planning for Public Health Midwives
DESCRIPTION:Department of Obstetrics and Gynaecology and the Department of Community and Family Medicine\, University of Jaffna in collaboration with the office of RDHS Jaffna will conduct the Workshop on Current Trends in ANC Care and Family Planning for Public Health Midwives on 27th of April 2024\, at the Auditorium\, RDHS Jaffna from 9.00 am to 12.30 pm.
URL:https://med.jfn.ac.lk/event/workshop-on-current-trends-in-anc-care-and-family-planning-for-public-health-midwives/
CATEGORIES:DCFM,Faculty,ObsGyn
ATTACH;FMTTYPE=image/jpeg:https://med.jfn.ac.lk/wp-content/uploads/2024/04/Workshop-on-Current-trends-in-ANC-care-and-Family-Planning-for-Public-Health-Midwives-2.jpg
END:VEVENT
BEGIN:VEVENT
DTSTART;TZID=Asia/Kolkata:20240425T150000
DTEND;TZID=Asia/Kolkata:20240425T150000
DTSTAMP:20260420T124555
CREATED:20240408T065002Z
LAST-MODIFIED:20240408T065004Z
UID:16082-1714057200-1714057200@med.jfn.ac.lk
SUMMARY:Annual Get Together - 2024
DESCRIPTION:The “Annual Get Together – 2024” is scheduled to be held on Thursday\, 25th of April 2024 from 3.00pm onwards at the Playground of University of Jaffna\, Hoover Auditorium and the Examination Hall of the Faculty of Medicine.
URL:https://med.jfn.ac.lk/event/annual-get-together-2024/
CATEGORIES:Faculty
ATTACH;FMTTYPE=image/jpeg:https://med.jfn.ac.lk/wp-content/uploads/2024/04/Annual-Get-together-2024.jpg
END:VEVENT
BEGIN:VEVENT
DTSTART;TZID=Asia/Kolkata:20240327T150000
DTEND;TZID=Asia/Kolkata:20240327T170000
DTSTAMP:20260420T124555
CREATED:20240301T054118Z
LAST-MODIFIED:20240318T110455Z
UID:15642-1711551600-1711558800@med.jfn.ac.lk
SUMMARY:Prof. C. Sivagnanasundram Memorial Lecture. 
DESCRIPTION:Prof. C. Sivagnanasundram memorial lecture is scheduled to be held on Wednesday\, 27th of March 2024 at 3.00 pm in the Hoover Auditorium\, Faculty of Medicine\, University of Jaffna.
URL:https://med.jfn.ac.lk/event/prof-c-sivagnanasundram-memorial-lecture/
CATEGORIES:DCFM,Faculty
END:VEVENT
BEGIN:VEVENT
DTSTART;TZID=Asia/Kolkata:20240307T090000
DTEND;TZID=Asia/Kolkata:20240307T140000
DTSTAMP:20260420T124555
CREATED:20231122T041836Z
LAST-MODIFIED:20240302T092417Z
UID:14689-1709802000-1709820000@med.jfn.ac.lk
SUMMARY:7th Undergraduate Research Symposium
DESCRIPTION:The 7th Undergraduate Research Symposium 2024 is scheduled to be held on the 7th of March 2024.
URL:https://med.jfn.ac.lk/event/7th-undergraduate-research-symposium/
CATEGORIES:DCFM,Faculty
ATTACH;FMTTYPE=image/png:https://med.jfn.ac.lk/wp-content/uploads/2024/02/Flyer.png
END:VEVENT
BEGIN:VEVENT
DTSTART;TZID=Asia/Kolkata:20240306T000000
DTEND;TZID=Asia/Kolkata:20240306T235959
DTSTAMP:20260420T124555
CREATED:20231122T041532Z
LAST-MODIFIED:20240301T053323Z
UID:14686-1709683200-1709769599@med.jfn.ac.lk
SUMMARY:Dr. Nadarajah Sivarajah Memorial Lecture 2024
DESCRIPTION:Dr. Nadarajah Sivarajah Memorial Lecture 2024 scheduled to be held on Wednesday\, 6th of March 2024.
URL:https://med.jfn.ac.lk/event/dr-nadarajah-sivarajah-memorial-lecture-2024/
CATEGORIES:DCFM,Faculty
END:VEVENT
BEGIN:VEVENT
DTSTART;TZID=Asia/Kolkata:20240303T093000
DTEND;TZID=Asia/Kolkata:20240303T093000
DTSTAMP:20260420T124556
CREATED:20240302T085259Z
LAST-MODIFIED:20240302T085300Z
UID:15648-1709458200-1709458200@med.jfn.ac.lk
SUMMARY:Football Friendly Encounter
DESCRIPTION:Join us at the ground of the Faculty of Engineering\, University of Jaffna\, on the 3rd of March 2024\, at 9:30 am\, for an exciting\, Football Friendly Encounter between the Faculty of Medicine and the Faculty of Engineering.  \n\n\n\nCome cheer for your team and relish a day of sporting brilliance!
URL:https://med.jfn.ac.lk/event/football-friendly-encounter/
CATEGORIES:MSU
ATTACH;FMTTYPE=image/jpeg:https://med.jfn.ac.lk/wp-content/uploads/2024/03/1.jpg
END:VEVENT
BEGIN:VEVENT
DTSTART;TZID=Asia/Kolkata:20240217T083000
DTEND;TZID=Asia/Kolkata:20240217T083000
DTSTAMP:20260420T124556
CREATED:20240216T063741Z
LAST-MODIFIED:20240216T063744Z
UID:15378-1708158600-1708158600@med.jfn.ac.lk
SUMMARY:CAREER GUIDANCE WORKSHOP 2024
DESCRIPTION:The Jaffna Medical Association (JMA) and Students’ Wellbeing Centre \,Faculty of Medicine are collaboratively organizing a Career guidance workshop on 17th  of February 2024 8.30am at Medical Students’ Hostel Auditorium for the 40th Batch. 
URL:https://med.jfn.ac.lk/event/career-guidance-workshop-2024/
CATEGORIES:Faculty,Wellbeing
END:VEVENT
BEGIN:VEVENT
DTSTART;TZID=Asia/Kolkata:20240212T090000
DTEND;TZID=Asia/Kolkata:20240212T120000
DTSTAMP:20260420T124556
CREATED:20240206T112852Z
LAST-MODIFIED:20240206T112853Z
UID:15241-1707728400-1707739200@med.jfn.ac.lk
SUMMARY:Inauguration of Academic Programme – 2022/2023
DESCRIPTION:The Academic Programme for the New Batch (2022 A/L) of Medical  Students will commence on Monday\, 12th  February 2024. An Inauguration Programme will be held on 12th February 2024 at 9.00 am in the Hoover Auditorium\, Faculty of Medicine\, University of Jaffna. \n\n\n\nAll the students are kindly requested to be present at  8.00 am at the Main entrance of the Faculty of Medicine. \n\n\n\nIt is appreciated that one parent of each student attend this inauguration programme. \n\n\n\nAddress :         \n\n\n\nFaculty of  Medicine\,University of JaffnaAdiyapatham Road\,Kokuvil\,Jaffna.
URL:https://med.jfn.ac.lk/event/inauguration-of-academic-programme-2022-2023/
LOCATION:Hoover Auditorium\, Faculty of Medicine\, University of Jaffna\, Adiyapatham Road\, Kokuvil\, Sri Lanka
CATEGORIES:Faculty
ATTACH;FMTTYPE=image/jpeg:https://med.jfn.ac.lk/wp-content/uploads/2024/02/Untitled-1-scaled.jpg
END:VEVENT
BEGIN:VEVENT
DTSTART;TZID=Asia/Kolkata:20240111T133000
DTEND;TZID=Asia/Kolkata:20240111T163000
DTSTAMP:20260420T124556
CREATED:20231214T040309Z
LAST-MODIFIED:20231214T040340Z
UID:14848-1704979800-1704990600@med.jfn.ac.lk
SUMMARY:Workshop for Community Medicine Clinical Attachment Tutors
DESCRIPTION:Workshop for Community Medicine Clinical Attachment (Clerkship) Tutors is scheduled to be held on 11th of January 2024 at the Conference Hall of Nallur MOH from 1.30 pm to 4.30 pm.
URL:https://med.jfn.ac.lk/event/workshop-for-community-medicine-clinical-attachment-tutors/
CATEGORIES:DCFM,Faculty
END:VEVENT
BEGIN:VEVENT
DTSTART;TZID=Asia/Kolkata:20231215T190000
DTEND;TZID=Asia/Kolkata:20231215T210000
DTSTAMP:20260420T124556
CREATED:20231207T084040Z
LAST-MODIFIED:20231207T084041Z
UID:14836-1702666800-1702674000@med.jfn.ac.lk
SUMMARY:Symposium on Reproductive Health and Book Launch
DESCRIPTION:The symposium on reproductive health and book launch on ‘Subfertility – A Guide to Undergraduates\, Post Graduates and Clinician’ is scheduled to be held on Friday\, 15th of December 2023\, from 7 pm to 9 pm at the Hoover Auditorium\, Faculty of Medicine\, University of Jaffna.
URL:https://med.jfn.ac.lk/event/symposium-on-reproductive-health-and-book-launch/
CATEGORIES:Faculty,ObsGyn,Surgery
END:VEVENT
BEGIN:VEVENT
DTSTART;TZID=Asia/Kolkata:20231208T140000
DTEND;TZID=Asia/Kolkata:20231208T160000
DTSTAMP:20260420T124556
CREATED:20231207T083448Z
LAST-MODIFIED:20231207T083450Z
UID:14833-1702044000-1702051200@med.jfn.ac.lk
SUMMARY:Inauguration of Certificate Course and Book Launch
DESCRIPTION:Inauguration of certificate course in Perioperative Care\, book launch on Perioperative Care and awarding ceremony of certificate course in semnology is scheduled to be held on Friday\, 8th of December 2023 from 2pm to 4pm at the Hoover Auditorium\, Faculty of Medicine\, University of Jaffna.
URL:https://med.jfn.ac.lk/event/inauguration-of-certificate-course-and-book-launch/
CATEGORIES:Faculty,ObsGyn,Surgery
END:VEVENT
BEGIN:VEVENT
DTSTART;TZID=Asia/Kolkata:20231124T084500
DTEND;TZID=Asia/Kolkata:20231124T084500
DTSTAMP:20260420T124556
CREATED:20231122T034820Z
LAST-MODIFIED:20231122T034913Z
UID:14682-1700815500-1700815500@med.jfn.ac.lk
SUMMARY:Milk Warming Ceremony
DESCRIPTION:
URL:https://med.jfn.ac.lk/event/milk-warming-ceremony/
CATEGORIES:Faculty
END:VEVENT
BEGIN:VEVENT
DTSTART;TZID=Asia/Kolkata:20230910T120000
DTEND;TZID=Asia/Kolkata:20230910T180000
DTSTAMP:20260420T124556
CREATED:20230907T070321Z
LAST-MODIFIED:20230907T070334Z
UID:13784-1694347200-1694368800@med.jfn.ac.lk
SUMMARY:Northern Doctors and Students Inaugural Sports Encounter 2023
DESCRIPTION:NORTHERN DOCTORS AND STUDENTS INAUGURAL SPORTS ENCOUNTER 2023 is scheduled to be held on 10th of September 2023 from 12.00 pm to 6.00 pm at the Playground\, University of Jaffna and we are elated in welcoming you to witness our lively games.
URL:https://med.jfn.ac.lk/event/northern-doctors-and-students-inaugural-sports-encounter-2023/
CATEGORIES:Faculty,Wellbeing
END:VEVENT
BEGIN:VEVENT
DTSTART;TZID=Asia/Kolkata:20230909T160000
DTEND;TZID=Asia/Kolkata:20230909T180000
DTSTAMP:20260420T124556
CREATED:20230907T062511Z
LAST-MODIFIED:20230907T062606Z
UID:13775-1694275200-1694282400@med.jfn.ac.lk
SUMMARY:Learn English - The Fun Way
DESCRIPTION:
URL:https://med.jfn.ac.lk/event/learn-english-the-fun-way/
CATEGORIES:Healthy City
ATTACH;FMTTYPE=image/jpeg:https://med.jfn.ac.lk/wp-content/uploads/2023/09/park-image-.jpg
END:VEVENT
BEGIN:VEVENT
DTSTART;TZID=Asia/Kolkata:20230627T080000
DTEND;TZID=Asia/Kolkata:20230627T140000
DTSTAMP:20260420T124556
CREATED:20230622T045144Z
LAST-MODIFIED:20230622T050237Z
UID:13044-1687852800-1687874400@med.jfn.ac.lk
SUMMARY:Undergraduate Research Symposium – 2023
DESCRIPTION:The URS 2023 is scheduled to be held on the 27th of June 2023 from 08.00 am to 02.00 pm at the Hoover Auditorium\, Faculty of Medicine\, University of Jaffna
URL:https://med.jfn.ac.lk/event/undergraduate-research-symposium-2023/
CATEGORIES:DCFM,Faculty
ATTACH;FMTTYPE=image/png:https://med.jfn.ac.lk/wp-content/uploads/2023/06/Blue-and-White-Modern-Email-Header.png
END:VEVENT
BEGIN:VEVENT
DTSTART;TZID=Asia/Kolkata:20230626T030000
DTEND;TZID=Asia/Kolkata:20230626T170000
DTSTAMP:20260420T124556
CREATED:20230622T044123Z
LAST-MODIFIED:20230622T044124Z
UID:13037-1687748400-1687798800@med.jfn.ac.lk
SUMMARY:Dr. Nadarajah Sivarajah Memorial Lecture 2023
DESCRIPTION:Dr. Nadarajah Sivarajah Memorial Lecture 2023 scheduled to be held on Monday\, 26th of June 2023 at 3.00pm in the Hoover Auditorium of the Faculty of Medicine\, University of Jaffna.
URL:https://med.jfn.ac.lk/event/dr-nadarajah-sivarajah-memorial-lecture-2023/
CATEGORIES:DCFM,Faculty
ATTACH;FMTTYPE=image/jpeg:https://med.jfn.ac.lk/wp-content/uploads/2023/06/Dr.N.Sivarajah-memorial-lecture-26.06.2023.jpg
END:VEVENT
BEGIN:VEVENT
DTSTART;TZID=Asia/Kolkata:20230607T130000
DTEND;TZID=Asia/Kolkata:20230608T160000
DTSTAMP:20260420T124556
CREATED:20230607T093629Z
LAST-MODIFIED:20230607T093630Z
UID:12783-1686142800-1686240000@med.jfn.ac.lk
SUMMARY:Workshop on Parenting
DESCRIPTION:The workshop on “Parenting” has been planned to be conducted by the Department of Psychiatry along with the Human Resource and Development Subcommittee of the Faculty of Medicine on the 8th & 9th of June 2023 from 1.00 pm to 4.00 pm at the conference hall.  \n\n\n\nDr. S.Sivathas\, Consultant Psychiatrist\, Teaching Hospital Jaffna\, Kindly agreed to serve as a resource person for this workshop.
URL:https://med.jfn.ac.lk/event/workshop-on-parenting/
CATEGORIES:Faculty
ATTACH;FMTTYPE=image/jpeg:https://med.jfn.ac.lk/wp-content/uploads/2023/06/Flyer-final_page-0001-scaled.jpg
END:VEVENT
BEGIN:VEVENT
DTSTART;TZID=Asia/Kolkata:20230526T083000
DTEND;TZID=Asia/Kolkata:20230526T120000
DTSTAMP:20260420T124556
CREATED:20230524T110808Z
LAST-MODIFIED:20230524T110949Z
UID:12521-1685089800-1685102400@med.jfn.ac.lk
SUMMARY:1st Year Anniversary Celebration - SWC
DESCRIPTION:The first-year anniversary celebration of the Students’ Wellbeing Centre is scheduled to be held on 26th of May 2023 from 8.30 am to 12.00 pm at Hoover Auditorium \,Faculty of Medicine and we kindly invite you to grace the occasion with your presence
URL:https://med.jfn.ac.lk/event/1st-year-anniversary-swc/
CATEGORIES:Faculty,Wellbeing
END:VEVENT
BEGIN:VEVENT
DTSTART;TZID=Asia/Kolkata:20230515T143000
DTEND;TZID=Asia/Kolkata:20230515T160000
DTSTAMP:20260420T124556
CREATED:20230511T090029Z
LAST-MODIFIED:20230511T090041Z
UID:12300-1684161000-1684166400@med.jfn.ac.lk
SUMMARY:Meeting
DESCRIPTION:A meeting has been planned  on 15th May 2023 (Monday) at 2.30 pm in the Jaffna District Secretariat.The purpose of the meeting is to discuss the second phase of cycling promotion at St. John’s College and Chundikuli Girls’ College school surroundings. Also\, a small discussion will be made on drug prevention in the Jaffna MC area.
URL:https://med.jfn.ac.lk/event/meeting/
LOCATION:Jaffna District Secretariat
CATEGORIES:Healthy City
END:VEVENT
BEGIN:VEVENT
DTSTART;TZID=Asia/Kolkata:20230512T093000
DTEND;TZID=Asia/Kolkata:20230512T123000
DTSTAMP:20260420T124556
CREATED:20230511T084251Z
LAST-MODIFIED:20230511T084346Z
UID:12297-1683883800-1683894600@med.jfn.ac.lk
SUMMARY:Workshop with Community Medicine Clinical Attachment (Clerkship) Tutors
DESCRIPTION:The Department of Community and Family Medicine\, Faculty of Medicine\, University of Jaffna has proposed to conduct a workshop on 12th of May 2023 at 9.30am to 12.30pm in the Conference Hall\, MOH Office Nallur for tutors who involve the clinical attachment.
URL:https://med.jfn.ac.lk/event/workshop-with-community-medicine-clinical-attachment-clerkship-tutors/
CATEGORIES:DCFM
END:VEVENT
BEGIN:VEVENT
DTSTART;TZID=Asia/Kolkata:20230410T150000
DTEND;TZID=Asia/Kolkata:20230410T170000
DTSTAMP:20260420T124556
CREATED:20230331T082619Z
LAST-MODIFIED:20230331T082950Z
UID:11923-1681138800-1681146000@med.jfn.ac.lk
SUMMARY:Professor. S. Balakumar Memorial Lecture - 2023
DESCRIPTION:Professor. S. Balakumar Memorial Lecture – 2023 is scheduled to be held on Monday\, 10th of April 2023 at 3.00pm in the Hoover Auditorium of the Faculty of Medicine\, University of Jaffna.
URL:https://med.jfn.ac.lk/event/professor-s-balakumar-memorial-lecture-2023/
CATEGORIES:Biochemistry
END:VEVENT
BEGIN:VEVENT
DTSTART;TZID=Asia/Kolkata:20230330T150000
DTEND;TZID=Asia/Kolkata:20230330T170000
DTSTAMP:20260420T124556
CREATED:20230323T092432Z
LAST-MODIFIED:20230323T092833Z
UID:11898-1680188400-1680195600@med.jfn.ac.lk
SUMMARY:Professor. C. Sivagnanasundram Memorial Lecture - 2023
DESCRIPTION:Professor. C. Sivagnanasundram Memorial Lecture – 2023 is scheduled to be held on Thursday\, 30th of March 2023 at 3.00pm in the Hoover Auditorium of the Faculty of Medicine\, University of Jaffna.
URL:https://med.jfn.ac.lk/event/professor-c-sivagnanasundram-memorial-lecture-2023/
END:VEVENT
BEGIN:VEVENT
DTSTART;TZID=Asia/Kolkata:20230313T023000
DTEND;TZID=Asia/Kolkata:20230313T043000
DTSTAMP:20260420T124556
CREATED:20230310T040152Z
LAST-MODIFIED:20230310T084018Z
UID:11685-1678674600-1678681800@med.jfn.ac.lk
SUMMARY:Opening Ceremony of Centre for Digital Epidemiology
DESCRIPTION:The opening ceremony of the Centre for Digital Epidemiology (CoDE) is scheduled to be held on Monday 13th of March 2023 at 2.30 pm in the Boardroom\, Faculty of Medicine\, University of Jaffna. \n\n\n\n\n\nTo join virtually:https://learn.zoom.us/j/65814352915?pwd=U0l5eTFrRkxFRGkwR0JaVW1rM3pMUT09Meeting ID: 658 1435 2915Passcode: Code.2023
URL:https://med.jfn.ac.lk/event/opening-ceremony-of-centre-for-digital-epidemiology/
END:VEVENT
BEGIN:VEVENT
DTSTART;TZID=Asia/Kolkata:20230227T083000
DTEND;TZID=Asia/Kolkata:20230227T103000
DTSTAMP:20260420T124556
CREATED:20230224T144458Z
LAST-MODIFIED:20230224T150515Z
UID:11511-1677486600-1677493800@med.jfn.ac.lk
SUMMARY:Inauguration Programme
DESCRIPTION:Inauguration Programme for the Academic year 2021/2022 (45th Batch) for the MBBS programme is organized by the Faculty of Medicine\, University of Jaffna on 27th of February 2023 from 8.30 AM onwards.
URL:https://med.jfn.ac.lk/event/inauguration/
LOCATION:Hoover Auditorium\, Faculty of Medicine\, University of Jaffna\, Adiyapatham Road\, Kokuvil\, Sri Lanka
ATTACH;FMTTYPE=image/jpeg:https://med.jfn.ac.lk/wp-content/uploads/2023/02/Inauguration.jpg
END:VEVENT
BEGIN:VEVENT
DTSTART;TZID=Asia/Kolkata:20221209T140000
DTEND;TZID=Asia/Kolkata:20221209T160000
DTSTAMP:20260420T124556
CREATED:20221206T082306Z
LAST-MODIFIED:20221206T082421Z
UID:9629-1670594400-1670601600@med.jfn.ac.lk
SUMMARY:Symposium on Drug abuse and Wellbeing Multilevel perspective & Multiple responses
DESCRIPTION:Drug abuse and wellbeing- multilevel perspective symposium is scheduled to be held on 09th of December 2022 from 2.00 pm to 4.oo pm at the Hoover Auditorium\, Faculty of Medicine\, University of Jaffna.
URL:https://med.jfn.ac.lk/event/symposium-on-drug-abuse-and-wellbeing-multilevel-perspective-multiple-responses/
CATEGORIES:Wellbeing
END:VEVENT
BEGIN:VEVENT
DTSTART;TZID=Asia/Kolkata:20221205T150000
DTEND;TZID=Asia/Kolkata:20221205T170000
DTSTAMP:20260420T124556
CREATED:20221130T093549Z
LAST-MODIFIED:20221130T094128Z
UID:9487-1670252400-1670259600@med.jfn.ac.lk
SUMMARY:Dr. M. Ganesaratnam Memorial Lecture - 2022
DESCRIPTION:Dr. M. Ganesaratnam Memorial Lecture – 2022on “Surgery Beyond the Scalpel” \n\n\n\nby Dr. Satish Kumar GoonesingheMB BS(Col)\, LLB(OUSL)\, MS(Col)\, MA(Kel)\, FRCS(Edin)\, FCSSLPresident\, The College of Surgeons of Sri Lanka and Consultant Urological Surgeon
URL:https://med.jfn.ac.lk/event/dr-m-ganesaratnam-memorial-lecture-2022/
CATEGORIES:Surgery
END:VEVENT
END:VCALENDAR