BEGIN:VCALENDAR
VERSION:2.0
PRODID:-//Faculty of Medicine - ECPv6.15.14//NONSGML v1.0//EN
CALSCALE:GREGORIAN
METHOD:PUBLISH
X-WR-CALNAME:Faculty of Medicine
X-ORIGINAL-URL:https://med.jfn.ac.lk
X-WR-CALDESC:Events for Faculty of Medicine
REFRESH-INTERVAL;VALUE=DURATION:PT1H
X-Robots-Tag:noindex
X-PUBLISHED-TTL:PT1H
BEGIN:VTIMEZONE
TZID:Asia/Kolkata
BEGIN:STANDARD
TZOFFSETFROM:+0530
TZOFFSETTO:+0530
TZNAME:IST
DTSTART:20210101T000000
END:STANDARD
END:VTIMEZONE
BEGIN:VEVENT
DTSTART;TZID=Asia/Kolkata:20230410T150000
DTEND;TZID=Asia/Kolkata:20230410T170000
DTSTAMP:20260420T021635
CREATED:20230331T082619Z
LAST-MODIFIED:20230331T082950Z
UID:11923-1681138800-1681146000@med.jfn.ac.lk
SUMMARY:Professor. S. Balakumar Memorial Lecture - 2023
DESCRIPTION:Professor. S. Balakumar Memorial Lecture – 2023 is scheduled to be held on Monday\, 10th of April 2023 at 3.00pm in the Hoover Auditorium of the Faculty of Medicine\, University of Jaffna.
URL:https://med.jfn.ac.lk/event/professor-s-balakumar-memorial-lecture-2023/
CATEGORIES:Biochemistry
END:VEVENT
BEGIN:VEVENT
DTSTART;TZID=Asia/Kolkata:20230330T150000
DTEND;TZID=Asia/Kolkata:20230330T170000
DTSTAMP:20260420T021635
CREATED:20230323T092432Z
LAST-MODIFIED:20230323T092833Z
UID:11898-1680188400-1680195600@med.jfn.ac.lk
SUMMARY:Professor. C. Sivagnanasundram Memorial Lecture - 2023
DESCRIPTION:Professor. C. Sivagnanasundram Memorial Lecture – 2023 is scheduled to be held on Thursday\, 30th of March 2023 at 3.00pm in the Hoover Auditorium of the Faculty of Medicine\, University of Jaffna.
URL:https://med.jfn.ac.lk/event/professor-c-sivagnanasundram-memorial-lecture-2023/
END:VEVENT
BEGIN:VEVENT
DTSTART;TZID=Asia/Kolkata:20230313T023000
DTEND;TZID=Asia/Kolkata:20230313T043000
DTSTAMP:20260420T021635
CREATED:20230310T040152Z
LAST-MODIFIED:20230310T084018Z
UID:11685-1678674600-1678681800@med.jfn.ac.lk
SUMMARY:Opening Ceremony of Centre for Digital Epidemiology
DESCRIPTION:The opening ceremony of the Centre for Digital Epidemiology (CoDE) is scheduled to be held on Monday 13th of March 2023 at 2.30 pm in the Boardroom\, Faculty of Medicine\, University of Jaffna. \n\n\n\n\n\nTo join virtually:https://learn.zoom.us/j/65814352915?pwd=U0l5eTFrRkxFRGkwR0JaVW1rM3pMUT09Meeting ID: 658 1435 2915Passcode: Code.2023
URL:https://med.jfn.ac.lk/event/opening-ceremony-of-centre-for-digital-epidemiology/
END:VEVENT
BEGIN:VEVENT
DTSTART;TZID=Asia/Kolkata:20230227T083000
DTEND;TZID=Asia/Kolkata:20230227T103000
DTSTAMP:20260420T021635
CREATED:20230224T144458Z
LAST-MODIFIED:20230224T150515Z
UID:11511-1677486600-1677493800@med.jfn.ac.lk
SUMMARY:Inauguration Programme
DESCRIPTION:Inauguration Programme for the Academic year 2021/2022 (45th Batch) for the MBBS programme is organized by the Faculty of Medicine\, University of Jaffna on 27th of February 2023 from 8.30 AM onwards.
URL:https://med.jfn.ac.lk/event/inauguration/
LOCATION:Hoover Auditorium\, Faculty of Medicine\, University of Jaffna\, Adiyapatham Road\, Kokuvil\, Sri Lanka
ATTACH;FMTTYPE=image/jpeg:https://med.jfn.ac.lk/wp-content/uploads/2023/02/Inauguration.jpg
END:VEVENT
BEGIN:VEVENT
DTSTART;TZID=Asia/Kolkata:20221209T140000
DTEND;TZID=Asia/Kolkata:20221209T160000
DTSTAMP:20260420T021635
CREATED:20221206T082306Z
LAST-MODIFIED:20221206T082421Z
UID:9629-1670594400-1670601600@med.jfn.ac.lk
SUMMARY:Symposium on Drug abuse and Wellbeing Multilevel perspective & Multiple responses
DESCRIPTION:Drug abuse and wellbeing- multilevel perspective symposium is scheduled to be held on 09th of December 2022 from 2.00 pm to 4.oo pm at the Hoover Auditorium\, Faculty of Medicine\, University of Jaffna.
URL:https://med.jfn.ac.lk/event/symposium-on-drug-abuse-and-wellbeing-multilevel-perspective-multiple-responses/
CATEGORIES:Wellbeing
END:VEVENT
BEGIN:VEVENT
DTSTART;TZID=Asia/Kolkata:20221205T150000
DTEND;TZID=Asia/Kolkata:20221205T170000
DTSTAMP:20260420T021635
CREATED:20221130T093549Z
LAST-MODIFIED:20221130T094128Z
UID:9487-1670252400-1670259600@med.jfn.ac.lk
SUMMARY:Dr. M. Ganesaratnam Memorial Lecture - 2022
DESCRIPTION:Dr. M. Ganesaratnam Memorial Lecture – 2022on “Surgery Beyond the Scalpel” \n\n\n\nby Dr. Satish Kumar GoonesingheMB BS(Col)\, LLB(OUSL)\, MS(Col)\, MA(Kel)\, FRCS(Edin)\, FCSSLPresident\, The College of Surgeons of Sri Lanka and Consultant Urological Surgeon
URL:https://med.jfn.ac.lk/event/dr-m-ganesaratnam-memorial-lecture-2022/
CATEGORIES:Surgery
END:VEVENT
BEGIN:VEVENT
DTSTART;TZID=Asia/Kolkata:20221205T080000
DTEND;TZID=Asia/Kolkata:20221205T143000
DTSTAMP:20260420T021635
CREATED:20221121T045302Z
LAST-MODIFIED:20221130T093631Z
UID:9384-1670227200-1670250600@med.jfn.ac.lk
SUMMARY:Undergraduate Research Symposium - 2022
DESCRIPTION:The Undergraduate Research Symposium (URS) provides opportunities for undergraduates to communicate their research findings and develop their research presentation skills\, and enables the Faculty to showcase undergraduate research at the University of Jaffna. \n\n\n\nThe URS 2022 is scheduled to be held on 5th of December 2022 from 08.00 am to 02.30 pm at the Hoover Auditorium\, Faculty of Medicine\, University of Jaffna
URL:https://med.jfn.ac.lk/event/undergraduate-research-symposium/
END:VEVENT
BEGIN:VEVENT
DTSTART;TZID=Asia/Kolkata:20221202T140000
DTEND;TZID=Asia/Kolkata:20221202T160000
DTSTAMP:20260420T021635
CREATED:20221130T095149Z
LAST-MODIFIED:20221130T095150Z
UID:9494-1669989600-1669996800@med.jfn.ac.lk
SUMMARY:Fertility Awareness Day & Book Launch
DESCRIPTION:Department of Obstetrics and Gynaecology and Deptpartment of Surgery of the Faculty of Medicine\, University of Jaffna presents “Fertility Awareness Day and Book Launching Ceremony” on Friday 02nd\, December 2022 at 2.00 pm at the Hoover Auditorium of the Faculty of Medicine\, University of Jaffna.
URL:https://med.jfn.ac.lk/event/fertility-awareness-day-book-launch/
CATEGORIES:ObsGyn,Surgery
END:VEVENT
BEGIN:VEVENT
DTSTART;TZID=Asia/Kolkata:20220806T083000
DTEND;TZID=Asia/Kolkata:20220806T170000
DTSTAMP:20260420T021635
CREATED:20220623T100428Z
LAST-MODIFIED:20220708T110707Z
UID:6310-1659774600-1659805200@med.jfn.ac.lk
SUMMARY:Research Conference of Faculty of Medicine\, Jaffna - 2022 (RCFMJ - 2022)
DESCRIPTION:The RCFMJ – 2022\, one of the satellite conferences of JUICE – 2022\, provides a platform for the researchers in the medical sciences to showcase and disseminate their work. \n\n\n\nThe inaugural RCFMJ – 2022\, scheduled to be held in August 2022\, invites abstracts from local and international researchers in the medical sciences. \n\n\n\nImportant Dates \n\n\n\nDeadline for Abstract Submission – 15th of June 2022Notification of Acceptance – 15th of July 2022Registration of Presenting Authors – 31st of July 2022
URL:https://med.jfn.ac.lk/event/research-conference-of-faculty-of-medicine-jaffna-2022-rcfmj-2022/
END:VEVENT
END:VCALENDAR