BEGIN:VCALENDAR
VERSION:2.0
PRODID:-//Faculty of Medicine - ECPv6.15.14//NONSGML v1.0//EN
CALSCALE:GREGORIAN
METHOD:PUBLISH
X-WR-CALNAME:Faculty of Medicine
X-ORIGINAL-URL:https://med.jfn.ac.lk
X-WR-CALDESC:Events for Faculty of Medicine
REFRESH-INTERVAL;VALUE=DURATION:PT1H
X-Robots-Tag:noindex
X-PUBLISHED-TTL:PT1H
BEGIN:VTIMEZONE
TZID:Asia/Kolkata
BEGIN:STANDARD
TZOFFSETFROM:+0530
TZOFFSETTO:+0530
TZNAME:IST
DTSTART:20220101T000000
END:STANDARD
END:VTIMEZONE
BEGIN:VEVENT
DTSTART;TZID=Asia/Kolkata:20230607T130000
DTEND;TZID=Asia/Kolkata:20230608T160000
DTSTAMP:20260421T190210
CREATED:20230607T093629Z
LAST-MODIFIED:20230607T093630Z
UID:12783-1686142800-1686240000@med.jfn.ac.lk
SUMMARY:Workshop on Parenting
DESCRIPTION:The workshop on “Parenting” has been planned to be conducted by the Department of Psychiatry along with the Human Resource and Development Subcommittee of the Faculty of Medicine on the 8th & 9th of June 2023 from 1.00 pm to 4.00 pm at the conference hall.  \n\n\n\nDr. S.Sivathas\, Consultant Psychiatrist\, Teaching Hospital Jaffna\, Kindly agreed to serve as a resource person for this workshop.
URL:https://med.jfn.ac.lk/event/workshop-on-parenting/
CATEGORIES:Faculty
ATTACH;FMTTYPE=image/jpeg:https://med.jfn.ac.lk/wp-content/uploads/2023/06/Flyer-final_page-0001-scaled.jpg
END:VEVENT
BEGIN:VEVENT
DTSTART;TZID=Asia/Kolkata:20230626T030000
DTEND;TZID=Asia/Kolkata:20230626T170000
DTSTAMP:20260421T190210
CREATED:20230622T044123Z
LAST-MODIFIED:20230622T044124Z
UID:13037-1687748400-1687798800@med.jfn.ac.lk
SUMMARY:Dr. Nadarajah Sivarajah Memorial Lecture 2023
DESCRIPTION:Dr. Nadarajah Sivarajah Memorial Lecture 2023 scheduled to be held on Monday\, 26th of June 2023 at 3.00pm in the Hoover Auditorium of the Faculty of Medicine\, University of Jaffna.
URL:https://med.jfn.ac.lk/event/dr-nadarajah-sivarajah-memorial-lecture-2023/
CATEGORIES:DCFM,Faculty
ATTACH;FMTTYPE=image/jpeg:https://med.jfn.ac.lk/wp-content/uploads/2023/06/Dr.N.Sivarajah-memorial-lecture-26.06.2023.jpg
END:VEVENT
BEGIN:VEVENT
DTSTART;TZID=Asia/Kolkata:20230627T080000
DTEND;TZID=Asia/Kolkata:20230627T140000
DTSTAMP:20260421T190210
CREATED:20230622T045144Z
LAST-MODIFIED:20230622T050237Z
UID:13044-1687852800-1687874400@med.jfn.ac.lk
SUMMARY:Undergraduate Research Symposium – 2023
DESCRIPTION:The URS 2023 is scheduled to be held on the 27th of June 2023 from 08.00 am to 02.00 pm at the Hoover Auditorium\, Faculty of Medicine\, University of Jaffna
URL:https://med.jfn.ac.lk/event/undergraduate-research-symposium-2023/
CATEGORIES:DCFM,Faculty
ATTACH;FMTTYPE=image/png:https://med.jfn.ac.lk/wp-content/uploads/2023/06/Blue-and-White-Modern-Email-Header.png
END:VEVENT
END:VCALENDAR