BEGIN:VCALENDAR
VERSION:2.0
PRODID:-//Faculty of Medicine - ECPv6.15.14//NONSGML v1.0//EN
CALSCALE:GREGORIAN
METHOD:PUBLISH
X-ORIGINAL-URL:https://med.jfn.ac.lk
X-WR-CALDESC:Events for Faculty of Medicine
REFRESH-INTERVAL;VALUE=DURATION:PT1H
X-Robots-Tag:noindex
X-PUBLISHED-TTL:PT1H
BEGIN:VTIMEZONE
TZID:Asia/Kolkata
BEGIN:STANDARD
TZOFFSETFROM:+0530
TZOFFSETTO:+0530
TZNAME:IST
DTSTART:20220101T000000
END:STANDARD
END:VTIMEZONE
BEGIN:VEVENT
DTSTART;TZID=Asia/Kolkata:20230909T160000
DTEND;TZID=Asia/Kolkata:20230909T180000
DTSTAMP:20260421T161525
CREATED:20230907T062511Z
LAST-MODIFIED:20230907T062606Z
UID:13775-1694275200-1694282400@med.jfn.ac.lk
SUMMARY:Learn English - The Fun Way
DESCRIPTION:
URL:https://med.jfn.ac.lk/event/learn-english-the-fun-way/
CATEGORIES:Healthy City
ATTACH;FMTTYPE=image/jpeg:https://med.jfn.ac.lk/wp-content/uploads/2023/09/park-image-.jpg
END:VEVENT
BEGIN:VEVENT
DTSTART;TZID=Asia/Kolkata:20230910T120000
DTEND;TZID=Asia/Kolkata:20230910T180000
DTSTAMP:20260421T161525
CREATED:20230907T070321Z
LAST-MODIFIED:20230907T070334Z
UID:13784-1694347200-1694368800@med.jfn.ac.lk
SUMMARY:Northern Doctors and Students Inaugural Sports Encounter 2023
DESCRIPTION:NORTHERN DOCTORS AND STUDENTS INAUGURAL SPORTS ENCOUNTER 2023 is scheduled to be held on 10th of September 2023 from 12.00 pm to 6.00 pm at the Playground\, University of Jaffna and we are elated in welcoming you to witness our lively games.
URL:https://med.jfn.ac.lk/event/northern-doctors-and-students-inaugural-sports-encounter-2023/
CATEGORIES:Faculty,Wellbeing
END:VEVENT
END:VCALENDAR