BEGIN:VCALENDAR
VERSION:2.0
PRODID:-//Faculty of Medicine - ECPv6.15.14//NONSGML v1.0//EN
CALSCALE:GREGORIAN
METHOD:PUBLISH
X-ORIGINAL-URL:https://med.jfn.ac.lk
X-WR-CALDESC:Events for Faculty of Medicine
REFRESH-INTERVAL;VALUE=DURATION:PT1H
X-Robots-Tag:noindex
X-PUBLISHED-TTL:PT1H
BEGIN:VTIMEZONE
TZID:Asia/Kolkata
BEGIN:STANDARD
TZOFFSETFROM:+0530
TZOFFSETTO:+0530
TZNAME:IST
DTSTART:20230101T000000
END:STANDARD
END:VTIMEZONE
BEGIN:VEVENT
DTSTART;TZID=Asia/Kolkata:20240212T090000
DTEND;TZID=Asia/Kolkata:20240212T120000
DTSTAMP:20260421T065649
CREATED:20240206T112852Z
LAST-MODIFIED:20240206T112853Z
UID:15241-1707728400-1707739200@med.jfn.ac.lk
SUMMARY:Inauguration of Academic Programme – 2022/2023
DESCRIPTION:The Academic Programme for the New Batch (2022 A/L) of Medical  Students will commence on Monday\, 12th  February 2024. An Inauguration Programme will be held on 12th February 2024 at 9.00 am in the Hoover Auditorium\, Faculty of Medicine\, University of Jaffna. \n\n\n\nAll the students are kindly requested to be present at  8.00 am at the Main entrance of the Faculty of Medicine. \n\n\n\nIt is appreciated that one parent of each student attend this inauguration programme. \n\n\n\nAddress :         \n\n\n\nFaculty of  Medicine\,University of JaffnaAdiyapatham Road\,Kokuvil\,Jaffna.
URL:https://med.jfn.ac.lk/event/inauguration-of-academic-programme-2022-2023/
LOCATION:Hoover Auditorium\, Faculty of Medicine\, University of Jaffna\, Adiyapatham Road\, Kokuvil\, Sri Lanka
CATEGORIES:Faculty
ATTACH;FMTTYPE=image/jpeg:https://med.jfn.ac.lk/wp-content/uploads/2024/02/Untitled-1-scaled.jpg
END:VEVENT
BEGIN:VEVENT
DTSTART;TZID=Asia/Kolkata:20240217T083000
DTEND;TZID=Asia/Kolkata:20240217T083000
DTSTAMP:20260421T065649
CREATED:20240216T063741Z
LAST-MODIFIED:20240216T063744Z
UID:15378-1708158600-1708158600@med.jfn.ac.lk
SUMMARY:CAREER GUIDANCE WORKSHOP 2024
DESCRIPTION:The Jaffna Medical Association (JMA) and Students’ Wellbeing Centre \,Faculty of Medicine are collaboratively organizing a Career guidance workshop on 17th  of February 2024 8.30am at Medical Students’ Hostel Auditorium for the 40th Batch. 
URL:https://med.jfn.ac.lk/event/career-guidance-workshop-2024/
CATEGORIES:Faculty,Wellbeing
END:VEVENT
END:VCALENDAR