BEGIN:VCALENDAR
VERSION:2.0
PRODID:-//Faculty of Medicine - ECPv6.15.14//NONSGML v1.0//EN
CALSCALE:GREGORIAN
METHOD:PUBLISH
X-ORIGINAL-URL:https://med.jfn.ac.lk
X-WR-CALDESC:Events for Faculty of Medicine
REFRESH-INTERVAL;VALUE=DURATION:PT1H
X-Robots-Tag:noindex
X-PUBLISHED-TTL:PT1H
BEGIN:VTIMEZONE
TZID:Asia/Kolkata
BEGIN:STANDARD
TZOFFSETFROM:+0530
TZOFFSETTO:+0530
TZNAME:IST
DTSTART:20230101T000000
END:STANDARD
END:VTIMEZONE
BEGIN:VEVENT
DTSTART;TZID=Asia/Kolkata:20240811T090000
DTEND;TZID=Asia/Kolkata:20240811T090000
DTSTAMP:20260420T212405
CREATED:20240805T115201Z
LAST-MODIFIED:20240805T115318Z
UID:17033-1723366800-1723366800@med.jfn.ac.lk
SUMMARY:Friendly Football Encounter
DESCRIPTION:The friendly football  ⚽ match which will be held for the first time between Jaffna Medical Faculty Team and Ragama Medical Faculty  Team will be held on 11th August 2024 at the University of Kelaniya playground. \n\n\n\nThe players representing the Jaffna team are\, \n\n\n\nS.George Dilojan (02) (Captain)K.Ajilavan (04)A.Arunkiruba croos (03)M.N. Divjan (09)S.Niruthasan (13)A.M.Sakib (11)J.Kishoran (7)R.Rukshikan (43)M.M.M.Maeen (16)R.Hershon Sasin  (06)I.Thiyogin croos (21)S.Keerthikan (08)S.Banujan (10)U.Yathurssan (01)R.Jagathguru (18) \n\n\n\nWe hope that you will all engage in good friendly competition\, and we trust that it will strengthen the bond between the two faculties. \n\n\n\nOrganized By Medical Faculty Students’ Union\,University Of Kelaniya.
URL:https://med.jfn.ac.lk/event/17033/
CATEGORIES:MSU
ATTACH;FMTTYPE=image/jpeg:https://med.jfn.ac.lk/wp-content/uploads/2024/08/IMG-20240804-WA0086-scaled.jpg
END:VEVENT
BEGIN:VEVENT
DTSTART;TZID=Asia/Kolkata:20240816T083000
DTEND;TZID=Asia/Kolkata:20240816T170000
DTSTAMP:20260420T212405
CREATED:20240813T034134Z
LAST-MODIFIED:20240813T034305Z
UID:17197-1723797000-1723827600@med.jfn.ac.lk
SUMMARY:RCFMJ 2024
DESCRIPTION:
URL:https://med.jfn.ac.lk/event/rcfmj-2024/
LOCATION:Hoover Auditorium\, Faculty of Medicine\, University of Jaffna\, Adiyapatham Road\, Kokuvil\, Sri Lanka
CATEGORIES:Faculty
ATTACH;FMTTYPE=image/jpeg:https://med.jfn.ac.lk/wp-content/uploads/2024/08/RCFMJ-2024-Conference-Poster-02.08.2024-_page-0001.jpg
END:VEVENT
BEGIN:VEVENT
DTSTART;TZID=Asia/Kolkata:20240817T170000
DTEND;TZID=Asia/Kolkata:20240817T170000
DTSTAMP:20260420T212405
CREATED:20240730T084540Z
LAST-MODIFIED:20240730T105302Z
UID:16864-1723914000-1723914000@med.jfn.ac.lk
SUMMARY:JMFAA International Get-together - 2024
DESCRIPTION:The Jaffna Medical Faculty Alumni Association (JMFAA) has arranged and invites you to a “Dinner Dance Program” on August 17th (Saturday)\, 2024\, 5 p.m onwards at the J-Guest Hotel in Jaffna. The event aims to raise funds for our Medical Students scholarship program by participating Local and Overseas Alumni members and Medical Students.Tickets are available at the Alumni Office\, Faculty of Medicine\, University of Jaffna.– Local Alumni members        – Rs. 5\,500.00– Overseas Alumni members – USD 40– Medical Students                 – Rs. 3\,500.00Join us and give your support to our Medical Students.The PresidentJMFAA
URL:https://med.jfn.ac.lk/event/jmfaa-international-get-together-2024/
CATEGORIES:Alumni
ATTACH;FMTTYPE=image/jpeg:https://med.jfn.ac.lk/wp-content/uploads/2024/07/Alumni-Event.jpg
END:VEVENT
END:VCALENDAR